BEGIN:VCALENDAR
VERSION:2.0
PRODID:Imitheme.com
BEGIN:VEVENT
UID:20260424T090835-2102016524
DTSTAMP;TZID=UTC:1777021715
DTSTART:20260424T090835Z
DTEND:19700101T000000Z
SUMMARY:Microsoft Planner (Virtual)
LOCATION:VIRTUAL
DESCRIPTION: [vc_row][vc_column width="1/1"][vc_column_text uncode_shortcode_id="160389"]Microsoft Planner is a task management and organisational system, it is a to do app for your team. Planner is not a project management tool and does not offer scheduling or task dependency functionality like Microsoft Project.
Planner does, however, provide your team with a highly visual and mobile tool to help organise and manage team-wide tasks.
Planner provides all users with access to Kanban boards using content-rich task cards with files, checklists, labels, and more. Your team can easily collaborate in Planner and Microsoft Teams at the same time using the Tasks by Planner and To Do app.[/vc_column_text][vc_tabs][vc_tab title="Units" tab_id="1578020048-1-744290-96a91700180540112"][vc_column_text uncode_shortcode_id="132197"]
<h6>Understanding Planner</h6>
• What Is Microsoft Planner
• Planner Integration
• Planner Benefits
• Planner in Microsoft Teams
<h6>Creating Plans</h6>
• Create a new plan – via Microsoft 365
• Create a new plan – via Microsoft Teams
• Create a new plan – via Planner Mobile
<h6>Adding &amp; Managing Members</h6>
• Add, edit and delete members from a plan
<h6>Creating Bucket &amp; Task</h6>
• Creating plan content
• What is a bucket
• Setting up plan buckets
• What is a task
• Setting up tasks
• Assigning Tasks to Members
<h6>Managing Plans</h6>
• Accessing plans from multiple platforms
• Explore plan views
• Manage TasksUse task filters
• Use grouping options
• Exporting plans to Excel
• Linking plans to Outlook and Teams
• Understanding Microsoft 365 Groups[/vc_column_text][/vc_tab][vc_tab title="Audience" tab_id="1578020048-2-494290-96a91700180540112"][vc_column_text uncode_shortcode_id="718915"]This course is ideal for team leaders, project contributors, coordinators, and anyone who wants to streamline task management and improve team collaboration using Microsoft Planner within the Microsoft 365 ecosystem.[/vc_column_text][/vc_tab][vc_tab title="Format" tab_id="1578020247795-2-84290-96a91700180540112"][vc_column_text uncode_shortcode_id="764368"]• This is a 3-hour program that is delivered virtually via MS Teams
<u></u>[/vc_column_text][/vc_tab][vc_tab title="What's Included" tab_id="1578020281851-3-54290-96a91700180540112"][vc_column_text uncode_shortcode_id="189401"]
<ul>
 	<li>Interactive Sessions</li>
 	<li>Expert Guidance</li>
 	<li>Certificate of Completion</li>
</ul>
[/vc_column_text][/vc_tab][/vc_tabs][/vc_column][/vc_row][vc_row unlock_row_content="yes" row_height_percent="25" override_padding="yes" h_padding="0" top_padding="3" bottom_padding="3" back_color="accent" overlay_color="accent" overlay_alpha="80" gutter_size="100" column_width_percent="100" shift_y="0" z_index="0" desktop_visibility="yes" medium_visibility="yes" mobile_visibility="yes" style="inherited"][vc_column column_width_use_pixel="yes" position_vertical="middle" align_horizontal="align_center" gutter_size="3" style="dark" overlay_alpha="100" shift_x="0" shift_y="0" shift_y_down="0" z_index="0" medium_width="0" mobile_width="0" zoom_width="0" zoom_height="0" width="1/1" column_width_pixel="900"][vc_row_inner][vc_column_inner column_width_percent="100" align_horizontal="align_center" gutter_size="3" style="dark" overlay_alpha="50" shift_x="0" shift_y="0" z_index="0" medium_width="0" width="1/1"][vc_custom_heading heading_semantic="h6" text_size="fontsize-160000" text_transform="uppercase" text_space="fontspace-135905"]WHAT ARE CLIENTS ARE SAYING[/vc_custom_heading][vc_separator sep_color=",Default"][/vc_column_inner][/vc_row_inner][vc_gallery el_id="gallery-598392928" type="carousel" medias="84072" carousel_lg="1" carousel_md="1" carousel_sm="1" gutter_size="0" media_items="media|lightbox|original" carousel_type="fade" carousel_interval="5000" carousel_navspeed="400" carousel_dots="yes" carousel_dots_mobile="yes" carousel_autoh="yes" carousel_textual="yes" stage_padding="0" single_overlay_opacity="50" single_overlay_anim="no" single_text_anim="no" single_image_anim="no" single_h_align="center" single_padding="2" single_title_dimension="h1" single_title_weight="600" single_css_animation="zoom-in" single_animation_delay="200" carousel_twitter="yes" title="Testimonials"][/vc_column][/vc_row]
END:VEVENT
END:VCALENDAR
