BEGIN:VCALENDAR
VERSION:2.0
PRODID:Imitheme.com
BEGIN:VEVENT
UID:20260420T203455-899432839
DTSTAMP;TZID=UTC:1776717295
DTSTART:20260420T203455Z
DTEND:19700101T000000Z
SUMMARY:Microsoft PowerPoint Essentials (Virtual)
LOCATION:VIRTUAL
DESCRIPTION: [vc_row][vc_column width="1/1"][vc_column_text]

In this course we will learn how to create stunning PowerPoints that use a variety of media and techniques to present information in an interesting way, promoting your brand and engaging your audience.

[/vc_column_text][vc_tabs][vc_tab title="Units" tab_id="1578020048-1-744290-96a91633750771801"][vc_column_text uncode_shortcode_id="207139"]<strong>GETTING STARTED</strong>
• Design considerations
• Powerpoint user interface
• Quick access toolbar
• Powerpoint views

<strong>CREATING A PRESENTATION</strong>
• Adding slides
• Working with layouts
• Managing slides
• Reuse slides

<strong>SLIDE DESIGN</strong>
• Slide Size
• Changing Theme
• Variants
• Backgrounds

<strong>WORKING WITH TEXT</strong>
• Font,size and colour
• Custom bullets
• Line spacing
• Vertical orientation

<strong>WORKING WITH PICTURES</strong>
• Options for adding pictures
• Move and resize
• Add styles
• Cropping pictures
• Insert a screen clipping

<strong>SMART ART</strong>
• Add smart art
• Change colours and effects
• Add and remove shapes
• Convert bullets to smart art
• Add images

<strong>TABLES AND CHARTS</strong>
• Creating simple charts
• Working with charts
• Adding tables
• Customising tables

<strong>SIMPLE ANIMATIONS</strong>
• Animate text
• Animate images
• Animate smart art
• Add transitions

<strong>SAVING AND SHARING</strong>
• Adding notes
• Printing notes
• Printing handouts
• Save as PDF

<strong>PRESENTING</strong>
• Useful shortcuts
• Presenter tools
• Working with presenter tools[/vc_column_text][/vc_tab][vc_tab title="Audience" tab_id="1578020048-2-494290-96a91633750771801"][vc_column_text]This course is suitable for beginners – anyone who needs to format spreadsheets or to organise and analyse data. We also cater for more advanced users.[/vc_column_text][/vc_tab][vc_tab title="Format" tab_id="1578020247795-2-84290-96a91633750771801"][vc_column_text uncode_shortcode_id="193173"]• 2 x 3-hour web-based virtual sessions (MS Teams) (In house versions of this course are also available – contact us for more info)
• Attendees <strong>must</strong> attend both days[/vc_column_text][/vc_tab][vc_tab title="What's Included" tab_id="1578020281851-3-54290-96a91633750771801"][vc_column_text]
<ul>
 	<li>Comprehensive Learning Guide</li>
</ul>
[/vc_column_text][/vc_tab][/vc_tabs][/vc_column][/vc_row]
END:VEVENT
END:VCALENDAR
